BEGIN:VCALENDAR
VERSION:2.0
PRODID:-//WVON - ECPv6.15.20//NONSGML v1.0//EN
CALSCALE:GREGORIAN
METHOD:PUBLISH
X-WR-CALNAME:WVON
X-ORIGINAL-URL:https://www.wvon.com
X-WR-CALDESC:Events for WVON
REFRESH-INTERVAL;VALUE=DURATION:PT1H
X-Robots-Tag:noindex
X-PUBLISHED-TTL:PT1H
BEGIN:VTIMEZONE
TZID:UTC
BEGIN:STANDARD
TZOFFSETFROM:+0000
TZOFFSETTO:+0000
TZNAME:UTC
DTSTART:20250101T000000
END:STANDARD
END:VTIMEZONE
BEGIN:VEVENT
DTSTART;TZID=UTC:20260424T200000
DTEND;TZID=UTC:20260424T223000
DTSTAMP:20260424T014837
CREATED:20260410T131933Z
LAST-MODIFIED:20260415T200301Z
UID:9372-1777060800-1777069800@www.wvon.com
SUMMARY:Jackie Wilson Story at Black Ensemble
DESCRIPTION:
URL:https://www.wvon.com/event/jackie-wilson-bet/
LOCATION:Black Ensemble Theater\, 4450 North Clark\, Chicago\, IL\, 60640\, United States
END:VEVENT
END:VCALENDAR